BEGIN:VCALENDAR
VERSION:2.0
PRODID:SchoolNow
CALSCALE:GREGORIAN
BEGIN:VEVENT
UID:84e60b96-7d79-11f0-9dd0-0e3b85f7061d
DTSTAMP:20251216T154643Z
SUMMARY:Orchard January PTA Meeting
URL;VALUE=URI:https://www.sylvan.k12.ca.us/schools/orchard/calendar/8523947
 /orchard-january-pta-meeting
DTSTART:20260116T023000Z
DTEND:20260116T033000Z
END:VEVENT
END:VCALENDAR
