BEGIN:VCALENDAR
VERSION:2.0
PRODID:SchoolNow
CALSCALE:GREGORIAN
BEGIN:VEVENT
UID:84e60c86-7d79-11f0-859a-0e3b85f7061d
DTSTAMP:20251216T154643Z
SUMMARY:Orchard February PTA Meeting
URL;VALUE=URI:https://www.sylvan.k12.ca.us/schools/orchard/calendar/8523948
 /orchard-february-pta-meeting
DTSTART:20260213T023000Z
DTEND:20260213T033000Z
END:VEVENT
END:VCALENDAR
