BEGIN:VCALENDAR
VERSION:2.0
PRODID:SchoolNow
CALSCALE:GREGORIAN
BEGIN:VEVENT
UID:84e60d76-7d79-11f0-8676-0e3b85f7061d
DTSTAMP:20251216T154643Z
SUMMARY:Orchard March PTA Meeting
URL;VALUE=URI:https://www.sylvan.k12.ca.us/schools/orchard/calendar/8523949
 /orchard-march-pta-meeting
DTSTART:20260313T013000Z
DTEND:20260313T023000Z
END:VEVENT
END:VCALENDAR
