BEGIN:VCALENDAR
VERSION:2.0
PRODID:SchoolNow
CALSCALE:GREGORIAN
BEGIN:VEVENT
UID:84e60f4c-7d79-11f0-9683-0e3b85f7061d
DTSTAMP:20251216T154643Z
SUMMARY:Orchard May PTA Meeting
URL;VALUE=URI:https://www.sylvan.k12.ca.us/schools/orchard/calendar/8523951
 /orchard-may-pta-meeting
DTSTART:20260515T000000Z
DTEND:20260515T010000Z
END:VEVENT
END:VCALENDAR
