BEGIN:VCALENDAR
VERSION:2.0
PRODID:SchoolNow
CALSCALE:GREGORIAN
BEGIN:VEVENT
UID:7ff5e2b6-7e12-11f0-ba0b-0a58a9feac02
DTSTAMP:20251216T154643Z
SUMMARY:Dress Up Day: Orchard School Colors
URL;VALUE=URI:https://www.sylvan.k12.ca.us/schools/orchard/calendar/8526441
 /dress-up-day-orchard-school-colors
DTSTART;VALUE=DATE:20250822
DTEND;VALUE=DATE:20250823
END:VEVENT
END:VCALENDAR
