BEGIN:VCALENDAR
VERSION:2.0
PRODID:SchoolNow
CALSCALE:GREGORIAN
BEGIN:VEVENT
UID:7ff5e5b8-7e12-11f0-84b7-0a58a9feac02
DTSTAMP:20251216T154643Z
SUMMARY:Dress Up Day: Favorite T-Shirt
URL;VALUE=URI:https://www.sylvan.k12.ca.us/schools/orchard/calendar/8526442
 /dress-up-day-favorite-t-shirt
DTSTART:20250829T070000Z
DTEND:20250829T073000Z
END:VEVENT
END:VCALENDAR
