BEGIN:VCALENDAR
VERSION:2.0
PRODID:SchoolNow
CALSCALE:GREGORIAN
BEGIN:VEVENT
UID:7ff5e8ec-7e12-11f0-817e-0a58a9feac02
DTSTAMP:20251216T154643Z
SUMMARY:Dress Up Day: Orchard School Colors
URL;VALUE=URI:https://www.sylvan.k12.ca.us/schools/orchard/calendar/8526445
 /dress-up-day-orchard-school-colors
DTSTART;VALUE=DATE:20250919
DTEND;VALUE=DATE:20250920
END:VEVENT
END:VCALENDAR
