BEGIN:VCALENDAR
VERSION:2.0
PRODID:SchoolNow
CALSCALE:GREGORIAN
BEGIN:VEVENT
UID:7ff5e9e6-7e12-11f0-815d-0a58a9feac02
DTSTAMP:20251216T154643Z
SUMMARY:Dress Up Day: Constitution Day (Red\, White\, & Blue)
URL;VALUE=URI:https://www.sylvan.k12.ca.us/schools/orchard/calendar/8526446
 /dress-up-day-constitution-day-red-white-blue
DTSTART;VALUE=DATE:20250917
DTEND;VALUE=DATE:20250918
END:VEVENT
END:VCALENDAR
