BEGIN:VCALENDAR
VERSION:2.0
PRODID:SchoolNow
CALSCALE:GREGORIAN
BEGIN:VEVENT
UID:7ff5ead6-7e12-11f0-acd8-0a58a9feac02
DTSTAMP:20251216T154643Z
SUMMARY:Dress Up Day: Disney Day
URL;VALUE=URI:https://www.sylvan.k12.ca.us/schools/orchard/calendar/8526447
 /dress-up-day-disney-day
DTSTART;VALUE=DATE:20250926
DTEND;VALUE=DATE:20250927
END:VEVENT
END:VCALENDAR
