BEGIN:VCALENDAR
VERSION:2.0
PRODID:SchoolNow
CALSCALE:GREGORIAN
BEGIN:VEVENT
UID:7ff5ed92-7e12-11f0-aefe-0a58a9feac02
DTSTAMP:20251216T154643Z
SUMMARY:Dress Up Day: Orange / Black / White Polka Dot or Stripes
URL;VALUE=URI:https://www.sylvan.k12.ca.us/schools/orchard/calendar/8526450
 /dress-up-day-orange-black-white-polka-dot-or-stripes
DTSTART;VALUE=DATE:20251024
DTEND;VALUE=DATE:20251025
END:VEVENT
END:VCALENDAR
