BEGIN:VCALENDAR
VERSION:2.0
PRODID:SchoolNow
CALSCALE:GREGORIAN
BEGIN:VEVENT
UID:7ff5ee82-7e12-11f0-a35f-0a58a9feac02
DTSTAMP:20251216T154643Z
SUMMARY:Unity Day\; Dress in Orange
URL;VALUE=URI:https://www.sylvan.k12.ca.us/schools/orchard/calendar/8526451
 /unity-day-dress-in-orange
DTSTART;VALUE=DATE:20251022
DTEND;VALUE=DATE:20251023
END:VEVENT
END:VCALENDAR
