BEGIN:VCALENDAR
VERSION:2.0
PRODID:SchoolNow
CALSCALE:GREGORIAN
BEGIN:VEVENT
UID:b9dd667a-8d35-11f0-be61-0a58a9feac02
DTSTAMP:20251216T154643Z
SUMMARY:Non School Holiday
URL;VALUE=URI:https://www.sylvan.k12.ca.us/schools/orchard/calendar/8598175
 /non-school-holiday
DTSTART;VALUE=DATE:20251010
DTEND;VALUE=DATE:20251011
END:VEVENT
END:VCALENDAR
