BEGIN:VCALENDAR
VERSION:2.0
PRODID:SchoolNow
CALSCALE:GREGORIAN
BEGIN:VEVENT
UID:b9dd6b16-8d35-11f0-b594-0a58a9feac02
DTSTAMP:20251216T154643Z
SUMMARY:Non School Holiday \; Veterans Day
URL;VALUE=URI:https://www.sylvan.k12.ca.us/schools/orchard/calendar/8598177
 /non-school-holiday-veterans-day
DTSTART;VALUE=DATE:20251110
DTEND;VALUE=DATE:20251111
END:VEVENT
END:VCALENDAR
