BEGIN:VCALENDAR
VERSION:2.0
PRODID:SchoolNow
CALSCALE:GREGORIAN
BEGIN:VEVENT
UID:b9dd6d28-8d35-11f0-81ff-0a58a9feac02
DTSTAMP:20251216T154643Z
SUMMARY:Non School Holiday \; Thanksgiving
URL;VALUE=URI:https://www.sylvan.k12.ca.us/schools/orchard/calendar/8598179
 /non-school-holiday-thanksgiving
DTSTART;VALUE=DATE:20251126
DTEND;VALUE=DATE:20251129
END:VEVENT
END:VCALENDAR
