BEGIN:VCALENDAR
VERSION:2.0
PRODID:SchoolNow
CALSCALE:GREGORIAN
BEGIN:VEVENT
UID:b9dd6e22-8d35-11f0-a5a3-0a58a9feac02
DTSTAMP:20251216T154643Z
SUMMARY:Non School Holiday \; Winter Break
URL;VALUE=URI:https://www.sylvan.k12.ca.us/schools/orchard/calendar/8598180
 /non-school-holiday-winter-break
DTSTART;VALUE=DATE:20251222
DTEND;VALUE=DATE:20260110
END:VEVENT
END:VCALENDAR
