BEGIN:VCALENDAR
VERSION:2.0
PRODID:SchoolNow
CALSCALE:GREGORIAN
BEGIN:VEVENT
UID:b9dd6f08-8d35-11f0-a640-0a58a9feac02
DTSTAMP:20251216T154643Z
SUMMARY:Non School Holiday \; Martin Luther King Day
URL;VALUE=URI:https://www.sylvan.k12.ca.us/schools/orchard/calendar/8598181
 /non-school-holiday-martin-luther-king-day
DTSTART;VALUE=DATE:20260119
DTEND;VALUE=DATE:20260120
END:VEVENT
END:VCALENDAR
