BEGIN:VCALENDAR
VERSION:2.0
PRODID:SchoolNow
CALSCALE:GREGORIAN
BEGIN:VEVENT
UID:b9dd6fee-8d35-11f0-bd77-0a58a9feac02
DTSTAMP:20251216T154643Z
SUMMARY:Non School Holiday \; Lincoln's Birthday
URL;VALUE=URI:https://www.sylvan.k12.ca.us/schools/orchard/calendar/8598182
 /non-school-holiday-lincolns-birthday
DTSTART;VALUE=DATE:20260209
DTEND;VALUE=DATE:20260210
END:VEVENT
END:VCALENDAR
