BEGIN:VCALENDAR
VERSION:2.0
PRODID:SchoolNow
CALSCALE:GREGORIAN
BEGIN:VEVENT
UID:b9dd70de-8d35-11f0-83c5-0a58a9feac02
DTSTAMP:20251216T154643Z
SUMMARY:Non School Holiday \; President's Day
URL;VALUE=URI:https://www.sylvan.k12.ca.us/schools/orchard/calendar/8598183
 /non-school-holiday-presidents-day
DTSTART;VALUE=DATE:20260216
DTEND;VALUE=DATE:20260217
END:VEVENT
END:VCALENDAR
