BEGIN:VCALENDAR
VERSION:2.0
PRODID:SchoolNow
CALSCALE:GREGORIAN
BEGIN:VEVENT
UID:b9dd71c4-8d35-11f0-8417-0a58a9feac02
DTSTAMP:20251216T154643Z
SUMMARY:Non School Holiday \; Spring Break
URL;VALUE=URI:https://www.sylvan.k12.ca.us/schools/orchard/calendar/8598184
 /non-school-holiday-spring-break
DTSTART;VALUE=DATE:20260323
DTEND;VALUE=DATE:20260328
END:VEVENT
END:VCALENDAR
