BEGIN:VCALENDAR
VERSION:2.0
PRODID:SchoolNow
CALSCALE:GREGORIAN
BEGIN:VEVENT
UID:b9dd72b4-8d35-11f0-a88f-0a58a9feac02
DTSTAMP:20251216T154643Z
SUMMARY:Non School Holiday \; Good Friday
URL;VALUE=URI:https://www.sylvan.k12.ca.us/schools/orchard/calendar/8598185
 /non-school-holiday-good-friday
DTSTART;VALUE=DATE:20260403
DTEND;VALUE=DATE:20260404
END:VEVENT
END:VCALENDAR
