BEGIN:VCALENDAR
VERSION:2.0
PRODID:SchoolNow
CALSCALE:GREGORIAN
BEGIN:VEVENT
UID:b9dd739a-8d35-11f0-8957-0a58a9feac02
DTSTAMP:20251216T154643Z
SUMMARY:Non School Holiday \; Memorial Day
URL;VALUE=URI:https://www.sylvan.k12.ca.us/schools/orchard/calendar/8598186
 /non-school-holiday-memorial-day
DTSTART;VALUE=DATE:20260525
DTEND;VALUE=DATE:20260526
END:VEVENT
END:VCALENDAR
