BEGIN:VCALENDAR
VERSION:2.0
PRODID:SchoolNow
CALSCALE:GREGORIAN
BEGIN:VEVENT
UID:b9dd7480-8d35-11f0-ae6f-0a58a9feac02
DTSTAMP:20251216T154643Z
SUMMARY:Picture Retake/Makeups
URL;VALUE=URI:https://www.sylvan.k12.ca.us/schools/orchard/calendar/8598187
 /picture-retake-makeups
DTSTART:20251023T150000Z
DTEND:20251023T190000Z
END:VEVENT
END:VCALENDAR
