BEGIN:VCALENDAR
VERSION:2.0
PRODID:SchoolNow
CALSCALE:GREGORIAN
BEGIN:VEVENT
UID:b9dd755c-8d35-11f0-93ce-0a58a9feac02
DTSTAMP:20251216T154643Z
SUMMARY:Parent Teacher Conference Week - Fall
URL;VALUE=URI:https://www.sylvan.k12.ca.us/schools/orchard/calendar/8598188
 /parent-teacher-conference-week-fall
DTSTART;VALUE=DATE:20251103
DTEND;VALUE=DATE:20251108
END:VEVENT
END:VCALENDAR
