BEGIN:VCALENDAR
VERSION:2.0
PRODID:SchoolNow
CALSCALE:GREGORIAN
BEGIN:VEVENT
UID:b9dd764c-8d35-11f0-98a4-0a58a9feac02
DTSTAMP:20251216T154643Z
SUMMARY:Parent Teacher Conference Week - Spring
URL;VALUE=URI:https://www.sylvan.k12.ca.us/schools/orchard/calendar/8598189
 /parent-teacher-conference-week-spring
DTSTART;VALUE=DATE:20260303
DTEND;VALUE=DATE:20260306
END:VEVENT
END:VCALENDAR
