BEGIN:VCALENDAR
VERSION:2.0
PRODID:SchoolNow
CALSCALE:GREGORIAN
BEGIN:VEVENT
UID:b9dd7732-8d35-11f0-8397-0a58a9feac02
DTSTAMP:20251216T154643Z
SUMMARY:Spring Pictures \; No Make Ups
URL;VALUE=URI:https://www.sylvan.k12.ca.us/schools/orchard/calendar/8598190
 /spring-pictures-no-make-ups
DTSTART:20260406T150000Z
DTEND:20260406T190000Z
END:VEVENT
END:VCALENDAR
