BEGIN:VCALENDAR
VERSION:2.0
PRODID:SchoolNow
CALSCALE:GREGORIAN
BEGIN:VEVENT
UID:b9dd7818-8d35-11f0-867f-0a58a9feac02
DTSTAMP:20251216T154643Z
SUMMARY:Orchard Open House 25-26
URL;VALUE=URI:https://www.sylvan.k12.ca.us/schools/orchard/calendar/8598191
 /orchard-open-house-25-26
DTSTART:20260515T010000Z
DTEND:20260515T020000Z
END:VEVENT
END:VCALENDAR
