BEGIN:VCALENDAR
VERSION:2.0
PRODID:SchoolNow
CALSCALE:GREGORIAN
BEGIN:VEVENT
UID:b9dd78fe-8d35-11f0-ba36-0a58a9feac02
DTSTAMP:20251216T154643Z
SUMMARY:Last Day of School
URL;VALUE=URI:https://www.sylvan.k12.ca.us/schools/orchard/calendar/8598192
 /last-day-of-school
DTSTART;VALUE=DATE:20260529
DTEND;VALUE=DATE:20260530
END:VEVENT
END:VCALENDAR
