BEGIN:VCALENDAR
VERSION:2.0
PRODID:SchoolNow
CALSCALE:GREGORIAN
BEGIN:VEVENT
UID:b9dd94ba-8d35-11f0-be5f-0a58a9feac02
DTSTAMP:20251216T154643Z
SUMMARY:Orchard Early Dismissal Wednesday \; Students dismissed @ 1:25
URL;VALUE=URI:https://www.sylvan.k12.ca.us/schools/orchard/calendar/8598223
 /orchard-early-dismissal-wednesday-students-dismissed-1-25
DTSTART:20260506T202500Z
DTEND:20260506T202500Z
END:VEVENT
END:VCALENDAR
