BEGIN:VCALENDAR
VERSION:2.0
PRODID:SchoolNow
CALSCALE:GREGORIAN
BEGIN:VEVENT
UID:69834210-9395-11f0-97af-02f6551d579b
DTSTAMP:20251216T154643Z
SUMMARY:Orchard Dine Out Night @ Red Robbin
URL;VALUE=URI:https://www.sylvan.k12.ca.us/schools/orchard/calendar/8631831
 /orchard-dine-out-night-red-robbin
DTSTART:20251025T000000Z
DTEND:20251025T030000Z
END:VEVENT
END:VCALENDAR
