BEGIN:VCALENDAR
VERSION:2.0
PRODID:SchoolNow
CALSCALE:GREGORIAN
BEGIN:VEVENT
UID:69834526-9395-11f0-b2ea-02f6551d579b
DTSTAMP:20251216T154643Z
SUMMARY:Orchard McTeacher Night @ McDonalds
URL;VALUE=URI:https://www.sylvan.k12.ca.us/schools/orchard/calendar/8631832
 /orchard-mcteacher-night-mcdonalds
DTSTART:20251204T010000Z
DTEND:20251204T030000Z
END:VEVENT
END:VCALENDAR
