BEGIN:VCALENDAR
VERSION:2.0
PRODID:SchoolNow
CALSCALE:GREGORIAN
BEGIN:VEVENT
UID:6983465c-9395-11f0-a009-02f6551d579b
DTSTAMP:20251216T154643Z
SUMMARY:Orchard Dine Out Day @ Black Bear Diner
URL;VALUE=URI:https://www.sylvan.k12.ca.us/schools/orchard/calendar/8631833
 /orchard-dine-out-day-black-bear-diner
DTSTART;VALUE=DATE:20260216
DTEND;VALUE=DATE:20260217
END:VEVENT
END:VCALENDAR
