BEGIN:VCALENDAR
VERSION:2.0
PRODID:SchoolNow
CALSCALE:GREGORIAN
BEGIN:VEVENT
UID:69834792-9395-11f0-8973-02f6551d579b
DTSTAMP:20251216T154643Z
SUMMARY:Orchard Family Food Truck Friday
URL;VALUE=URI:https://www.sylvan.k12.ca.us/schools/orchard/calendar/8631834
 /orchard-family-food-truck-friday
DTSTART:20260425T000000Z
DTEND:20260425T020000Z
END:VEVENT
END:VCALENDAR
