BEGIN:VCALENDAR
VERSION:2.0
PRODID:SchoolNow
CALSCALE:GREGORIAN
BEGIN:VEVENT
UID:38e96428-975e-11f0-a5bc-0affc38097ff
DTSTAMP:20251216T154643Z
SUMMARY:Dress Up Day: Red Ribbon Week (Wear Red)
URL;VALUE=URI:https://www.sylvan.k12.ca.us/schools/orchard/calendar/8651340
 /dress-up-day-red-ribbon-week-wear-red
DTSTART;VALUE=DATE:20251027
DTEND;VALUE=DATE:20251028
END:VEVENT
END:VCALENDAR
