BEGIN:VCALENDAR
VERSION:2.0
PRODID:SchoolNow
CALSCALE:GREGORIAN
BEGIN:VEVENT
UID:38e99d6c-975e-11f0-bca8-0affc38097ff
DTSTAMP:20251216T154643Z
SUMMARY:Red Ribbon Week Dress Up Day: Be on a Drug Free Team (Wear your fav
 orite sports gear)
URL;VALUE=URI:https://www.sylvan.k12.ca.us/schools/orchard/calendar/8651341
 /red-ribbon-week-dress-up-day-be-on-a-drug-free-team-wear-your-favorite-sp
 orts-gear
DTSTART;VALUE=DATE:20251028
DTEND;VALUE=DATE:20251029
END:VEVENT
END:VCALENDAR
