BEGIN:VCALENDAR
VERSION:2.0
PRODID:SchoolNow
CALSCALE:GREGORIAN
BEGIN:VEVENT
UID:38e9a190-975e-11f0-8c55-0affc38097ff
DTSTAMP:20251216T154643Z
SUMMARY:Red Ribbon Week Dress Up Day: Give drugs the Boot (Western Wear)
URL;VALUE=URI:https://www.sylvan.k12.ca.us/schools/orchard/calendar/8651342
 /red-ribbon-week-dress-up-day-give-drugs-the-boot-western-wear
DTSTART;VALUE=DATE:20251029
DTEND;VALUE=DATE:20251030
END:VEVENT
END:VCALENDAR
