BEGIN:VCALENDAR
VERSION:2.0
PRODID:SchoolNow
CALSCALE:GREGORIAN
BEGIN:VEVENT
UID:38e9a2d0-975e-11f0-b327-0affc38097ff
DTSTAMP:20251216T154643Z
SUMMARY:Red Ribbon Week Dress Up Day: My Future is Extra Bright (Wear Neon/
 bright colors/tie dye)
URL;VALUE=URI:https://www.sylvan.k12.ca.us/schools/orchard/calendar/8651343
 /red-ribbon-week-dress-up-day-my-future-is-extra-bright-wear-neon-bright-c
 olors-tie-dye
DTSTART;VALUE=DATE:20251030
DTEND;VALUE=DATE:20251031
END:VEVENT
END:VCALENDAR
