BEGIN:VCALENDAR
VERSION:2.0
PRODID:SchoolNow
CALSCALE:GREGORIAN
BEGIN:VEVENT
UID:38e9a3de-975e-11f0-bd3c-0affc38097ff
DTSTAMP:20251216T154643Z
SUMMARY:Red Ribbon Week Dress Up Day: Follow your Dreams\, Don't Do Drugs (
 Pajama day/no slippers)
URL;VALUE=URI:https://www.sylvan.k12.ca.us/schools/orchard/calendar/8651344
 /red-ribbon-week-dress-up-day-follow-your-dreams-dont-do-drugs-pajama-day-
 no-slippers
DTSTART;VALUE=DATE:20251031
DTEND;VALUE=DATE:20251101
END:VEVENT
END:VCALENDAR
