BEGIN:VCALENDAR
VERSION:2.0
PRODID:SchoolNow
CALSCALE:GREGORIAN
BEGIN:VEVENT
UID:d2da6d58-9f55-11f0-88aa-0a58a9feac02
DTSTAMP:20251216T154643Z
SUMMARY:Orchard S.O.A.R. Assembly Grades K & 1
URL;VALUE=URI:https://www.sylvan.k12.ca.us/schools/orchard/calendar/8686713
 /orchard-s-o-a-r-assembly-grades-k-1
DTSTART:20251031T150500Z
DTEND:20251031T153000Z
END:VEVENT
END:VCALENDAR
