BEGIN:VCALENDAR
VERSION:2.0
PRODID:SchoolNow
CALSCALE:GREGORIAN
BEGIN:VEVENT
UID:d2da70f0-9f55-11f0-8fc5-0a58a9feac02
DTSTAMP:20251216T154643Z
SUMMARY:Orchard S.O.A.R. Assembly Grades 4 & 5
URL;VALUE=URI:https://www.sylvan.k12.ca.us/schools/orchard/calendar/8686714
 /orchard-s-o-a-r-assembly-grades-4-5
DTSTART:20251031T160500Z
DTEND:20251031T163000Z
END:VEVENT
END:VCALENDAR
