BEGIN:VCALENDAR
VERSION:2.0
PRODID:SchoolNow
CALSCALE:GREGORIAN
BEGIN:VEVENT
UID:d2da7226-9f55-11f0-8fab-0a58a9feac02
DTSTAMP:20251216T154643Z
SUMMARY:Orchard S.O.A.R. Assembly Grades 2 & 3
URL;VALUE=URI:https://www.sylvan.k12.ca.us/schools/orchard/calendar/8686715
 /orchard-s-o-a-r-assembly-grades-2-3
DTSTART:20251031T153500Z
DTEND:20251031T160000Z
END:VEVENT
END:VCALENDAR
