BEGIN:VCALENDAR
VERSION:2.0
PRODID:SchoolNow
CALSCALE:GREGORIAN
BEGIN:VEVENT
UID:d2da7514-9f55-11f0-b3cd-0a58a9feac02
DTSTAMP:20251216T154643Z
SUMMARY:Color Run Jog-A-Thon Kinder & 1st Grade
URL;VALUE=URI:https://www.sylvan.k12.ca.us/schools/orchard/calendar/8686718
 /color-run-jog-a-thon-kinder-1st-grade
DTSTART:20251017T205000Z
DTEND:20251017T210500Z
END:VEVENT
END:VCALENDAR
