BEGIN:VCALENDAR
VERSION:2.0
PRODID:SchoolNow
CALSCALE:GREGORIAN
BEGIN:VEVENT
UID:d2da75fa-9f55-11f0-a411-0a58a9feac02
DTSTAMP:20251216T154643Z
SUMMARY:Color Run Jog-A-Thon AM + PM TK
URL;VALUE=URI:https://www.sylvan.k12.ca.us/schools/orchard/calendar/8686719
 /color-run-jog-a-thon-am-pm-tk
DTSTART:20251017T175500Z
DTEND:20251017T181000Z
END:VEVENT
END:VCALENDAR
