BEGIN:VCALENDAR
VERSION:2.0
PRODID:SchoolNow
CALSCALE:GREGORIAN
BEGIN:VEVENT
UID:d2da76e0-9f55-11f0-9d19-0a58a9feac02
DTSTAMP:20251216T154643Z
SUMMARY:Color Run Jog-A-Thon 4th & 5th Grade
URL;VALUE=URI:https://www.sylvan.k12.ca.us/schools/orchard/calendar/8686720
 /color-run-jog-a-thon-4th-5th-grade
DTSTART:20251017T201000Z
DTEND:20251017T202500Z
END:VEVENT
END:VCALENDAR
