BEGIN:VCALENDAR
VERSION:2.0
PRODID:SchoolNow
CALSCALE:GREGORIAN
BEGIN:VEVENT
UID:d2da77d0-9f55-11f0-9c85-0a58a9feac02
DTSTAMP:20251216T154643Z
SUMMARY:Color Run Jog-A-Thon 2nd & 3rd Grade
URL;VALUE=URI:https://www.sylvan.k12.ca.us/schools/orchard/calendar/8686721
 /color-run-jog-a-thon-2nd-3rd-grade
DTSTART:20251017T203000Z
DTEND:20251017T204500Z
END:VEVENT
END:VCALENDAR
