BEGIN:VCALENDAR
VERSION:2.0
PRODID:SchoolNow
CALSCALE:GREGORIAN
BEGIN:VEVENT
UID:d2da78b6-9f55-11f0-9400-0a58a9feac02
DTSTAMP:20251216T154643Z
SUMMARY:Orchard S.O.A.R. Courtyard Assembly
URL;VALUE=URI:https://www.sylvan.k12.ca.us/schools/orchard/calendar/8686722
 /orchard-s-o-a-r-courtyard-assembly
DTSTART:20251003T150000Z
DTEND:20251003T151500Z
END:VEVENT
END:VCALENDAR
