BEGIN:VCALENDAR
VERSION:2.0
PRODID:SchoolNow
CALSCALE:GREGORIAN
BEGIN:VEVENT
UID:53d5f194-a94b-11f0-853c-0a58a9feac02
DTSTAMP:20251216T154643Z
SUMMARY:Orchard S.O.A.R. Courtyard Assembly
URL;VALUE=URI:https://www.sylvan.k12.ca.us/schools/orchard/calendar/8722884
 /orchard-s-o-a-r-courtyard-assembly
DTSTART:20251114T160000Z
DTEND:20251114T161500Z
END:VEVENT
END:VCALENDAR
