BEGIN:VCALENDAR
VERSION:2.0
PRODID:SchoolNow
CALSCALE:GREGORIAN
BEGIN:VEVENT
UID:53d5f36a-a94b-11f0-ad30-0a58a9feac02
DTSTAMP:20251216T154643Z
SUMMARY:Orchard S.O.A.R. Courtyard Assembly
URL;VALUE=URI:https://www.sylvan.k12.ca.us/schools/orchard/calendar/8722886
 /orchard-s-o-a-r-courtyard-assembly
DTSTART:20260410T150000Z
DTEND:20260410T151500Z
END:VEVENT
END:VCALENDAR
