BEGIN:VCALENDAR
VERSION:2.0
PRODID:SchoolNow
CALSCALE:GREGORIAN
BEGIN:VEVENT
UID:0e04eee6-18ee-11f1-8788-0a58a9feac02
DTSTAMP:20260422T152550Z
SUMMARY:7/8 Boys VB Game: Oakdale @ Savage
LOCATION:Savage Middle School
URL;VALUE=URI:https://www.sylvan.k12.ca.us/schools/savage/calendar/8894331/
 7-8-boys-vb-game-oakdale-savage
DTSTART:20260422T223000Z
DTEND:20260423T003000Z
END:VEVENT
END:VCALENDAR
