BEGIN:VCALENDAR
VERSION:2.0
PRODID:SchoolNow
CALSCALE:GREGORIAN
BEGIN:VEVENT
UID:9c164a42-3cfa-11f1-adb0-0a58a9feac02
DTSTAMP:20260422T152550Z
SUMMARY:Jazz Band Performance - Country School Board Dinner
URL;VALUE=URI:https://www.sylvan.k12.ca.us/schools/savage/calendar/9007549/
 jazz-band-performance-country-school-board-dinner
DTSTART:20260423T001500Z
DTEND:20260423T011500Z
END:VEVENT
END:VCALENDAR
