BEGIN:VCALENDAR
VERSION:2.0
PRODID:SchoolNow
CALSCALE:GREGORIAN
BEGIN:VEVENT
UID:14884f24-9497-11ef-8b02-0affe53361cb
DTSTAMP:20251216T154641Z
SUMMARY:PTC Meeting (Rm 44)
URL;VALUE=URI:https://www.sylvan.k12.ca.us/schools/sherwood/calendar/690877
 1/ptc-meeting-rm-44
DTSTART:20260619T003000Z
DTEND:20260619T013000Z
END:VEVENT
END:VCALENDAR
